BEGIN:VCALENDAR
VERSION:2.0
PRODID:-//ChamberMaster//Event Calendar 2.0//EN
METHOD:PUBLISH
X-PUBLISHED-TTL:P1H
REFRESH-INTERVAL:P1H
CALSCALE:GREGORIAN
BEGIN:VTIMEZONE
TZID:America/New_York
BEGIN:DAYLIGHT
RRULE:FREQ=YEARLY;BYMONTH=3;BYDAY=2SU
DTSTART:20070101T000000
TZOFFSETFROM:-0500
TZOFFSETTO:-0400
TZNAME:Eastern Daylight Time
END:DAYLIGHT
BEGIN:STANDARD
RRULE:FREQ=YEARLY;BYMONTH=11;BYDAY=1SU
DTSTART:20070101T000000
TZOFFSETFROM:-0400
TZOFFSETTO:-0500
TZNAME:Eastern Standard Time
END:STANDARD
END:VTIMEZONE
BEGIN:VEVENT
DTSTART;TZID=America/New_York:20260420T110000
DTEND;TZID=America/New_York:20260420T120000
X-MICROSOFT-CDO-ALLDAYEVENT:FALSE
SUMMARY:From Bud to Table (and Tap): Insurance Issues in the Cannabis Industry webinar
DESCRIPTION:This course\, led by PIA Northeast's Director of Government & Industry Affairs Bradford J. Lachut\, Esq.\, will provide insurance producers with a current\, practical overview of insurance issues arising from the legalization and commercialization of cannabis. While cannabis remains federally illegal\, rapid state-level legalization\, emerging federal reforms\, and new product categories especially THC-infused beverages have created evolving risks and coverage gaps across both commercial and personal lines.\nApproved for 1 PC CE in Virginia only.  VA Course Intro Statement
X-ALT-DESC;FMTTYPE=text/html:<!DOCTYPE html><html><head><title></title></head><body aria-disabled="false"><p style="margin: 0px\; padding: 0px\; color: rgb(11\, 11\, 11)\; font-family: Helvetica\, Arial\, sans-serif\; font-size: 16px\; font-style: normal\; font-variant-ligatures: normal\; font-variant-caps: normal\; font-weight: 400\; letter-spacing: normal\; orphans: 2\; text-align: left\; text-indent: 0px\; text-transform: none\; widows: 2\; word-spacing: 0px\; -webkit-text-stroke-width: 0px\; white-space: pre-wrap\; background-color: rgb(254\, 253\, 254)\; text-decoration-thickness: initial\; text-decoration-style: initial\; text-decoration-color: initial\;"><span style="font-family: Arial\, Helvetica\, sans-serif\; font-size: 14px\;"><span style="color: rgb(0\, 51\, 51)\;">This course\, led by&nbsp\;PIA Northeast&#39\;s Director of Government &amp\; Industry Affairs Bradford J. Lachut\, Esq.\, will provide&nbsp\;insurance producers with a current\, practical overview of insurance issues arising from the legalization and commercialization of cannabis.</span></span></p><p style="margin: 0px\; padding: 0px\; color: rgb(11\, 11\, 11)\; font-family: Helvetica\, Arial\, sans-serif\; font-size: 16px\; font-style: normal\; font-variant-ligatures: normal\; font-variant-caps: normal\; font-weight: 400\; letter-spacing: normal\; orphans: 2\; text-align: left\; text-indent: 0px\; text-transform: none\; widows: 2\; word-spacing: 0px\; -webkit-text-stroke-width: 0px\; white-space: pre-wrap\; background-color: rgb(254\, 253\, 254)\; text-decoration-thickness: initial\; text-decoration-style: initial\; text-decoration-color: initial\;"><span style="font-size: 14px\;"><span style="font-family: Arial\,Helvetica\,sans-serif\;"><span style="color: black\;">&nbsp\;</span></span></span></p><p style="margin: 0px\; padding: 0px\; color: rgb(11\, 11\, 11)\; font-family: Helvetica\, Arial\, sans-serif\; font-size: 16px\; font-style: normal\; font-variant-ligatures: normal\; font-variant-caps: normal\; font-weight: 400\; letter-spacing: normal\; orphans: 2\; text-align: left\; text-indent: 0px\; text-transform: none\; widows: 2\; word-spacing: 0px\; -webkit-text-stroke-width: 0px\; white-space: pre-wrap\; background-color: rgb(254\, 253\, 254)\; text-decoration-thickness: initial\; text-decoration-style: initial\; text-decoration-color: initial\;"><span style="font-family: Arial\, Helvetica\, sans-serif\; color: rgb(0\, 51\, 51)\; font-size: 14px\;">While cannabis remains federally illegal\, rapid state-level legalization\, emerging federal reforms\, and new product categories&mdash\;especially THC-infused beverages&mdash\;have created evolving risks and coverage gaps across both commercial and personal lines.</span></p><p style="margin: 0px\; padding: 0px\; color: rgb(11\, 11\, 11)\; font-family: Helvetica\, Arial\, sans-serif\; font-size: 16px\; font-style: normal\; font-variant-ligatures: normal\; font-variant-caps: normal\; font-weight: 400\; letter-spacing: normal\; orphans: 2\; text-align: left\; text-indent: 0px\; text-transform: none\; widows: 2\; word-spacing: 0px\; -webkit-text-stroke-width: 0px\; white-space: pre-wrap\; background-color: rgb(254\, 253\, 254)\; text-decoration-thickness: initial\; text-decoration-style: initial\; text-decoration-color: initial\;"><br></p><p style="margin: 0px\; padding: 0px\; color: rgb(11\, 11\, 11)\; font-family: Helvetica\, Arial\, sans-serif\; font-size: 16px\; font-style: normal\; font-variant-ligatures: normal\; font-variant-caps: normal\; font-weight: 400\; letter-spacing: normal\; orphans: 2\; text-align: left\; text-indent: 0px\; text-transform: none\; widows: 2\; word-spacing: 0px\; -webkit-text-stroke-width: 0px\; white-space: pre-wrap\; background-color: rgb(254\, 253\, 254)\; text-decoration-thickness: initial\; text-decoration-style: initial\; text-decoration-color: initial\;"><span style="font-family: Arial\, Helvetica\, sans-serif\; color: rgb(0\, 51\, 51)\; font-size: 14px\;">Approved for 1 PC CE in <strong fr-original-style="" style="font-weight: 700\;">Virginia only</strong>. &nbsp\;</span><a fr-original-style="" href="https://piaofvadc.growthzoneapp.com/ap/CloudFile/Download/pVZkbwvp" rel="noopener noreferrer" style="user-select: auto\;" target="_blank"><span style="font-family: Arial\, Helvetica\, sans-serif\; color: rgb(0\, 51\, 51)\; font-size: 14px\;">VA Course Intro Statement</span></a></p></body></html>
LOCATION:
UID:e.3735.1443875
SEQUENCE:3
DTSTAMP:20260424T143348Z
URL:https://piaofvadc.growthzoneapp.com/piaeventandeducationcalendar/Details/from-bud-to-table-and-tap-insurance-issues-in-the-cannabis-industry-webinar-1710156?sourceTypeId=Hub
END:VEVENT
END:VCALENDAR
