BEGIN:VCALENDAR
VERSION:2.0
PRODID:-//ChamberMaster//Event Calendar 2.0//EN
METHOD:PUBLISH
X-PUBLISHED-TTL:P1H
REFRESH-INTERVAL:P1H
CALSCALE:GREGORIAN
BEGIN:VTIMEZONE
TZID:America/New_York
BEGIN:DAYLIGHT
RRULE:FREQ=YEARLY;BYMONTH=3;BYDAY=2SU
DTSTART:20070101T000000
TZOFFSETFROM:-0500
TZOFFSETTO:-0400
TZNAME:Eastern Daylight Time
END:DAYLIGHT
BEGIN:STANDARD
RRULE:FREQ=YEARLY;BYMONTH=11;BYDAY=1SU
DTSTART:20070101T000000
TZOFFSETFROM:-0400
TZOFFSETTO:-0500
TZNAME:Eastern Standard Time
END:STANDARD
END:VTIMEZONE
BEGIN:VEVENT
DTSTART;TZID=America/New_York:20260521T090000
DTEND;TZID=America/New_York:20260521T110000
X-MICROSOFT-CDO-ALLDAYEVENT:FALSE
SUMMARY:Why Are You Here?! Insurance Issues with the People and Stuff in Your House Webinar
DESCRIPTION:OBJECTIVE:\nTo teach insurance professionals about various exposures in home and umbrella policies and how to address them.Someone moves in. Someone moves out. Stuff moves in. Stuff moves out. As your insureds' situations change so do their insurance needs. Insurance pros who attend this course will gain expertise in how to handle several coverage issues found in a typical home or umbrella policy.  \nThis course is approved for 2 PC CE credit in Virginia only.  VA Course Intro Statement
X-ALT-DESC;FMTTYPE=text/html:<!DOCTYPE html><html><head><title></title></head><body aria-disabled="false"><p style="color: rgb(0\, 0\, 0)\; font-family: Arial\; font-size: medium\; font-style: normal\; font-variant-ligatures: normal\; font-variant-caps: normal\; font-weight: 400\; letter-spacing: normal\; orphans: 2\; text-align: start\; text-indent: 0px\; text-transform: none\; widows: 2\; word-spacing: 0px\; -webkit-text-stroke-width: 0px\; white-space: normal\; text-decoration-thickness: initial\; text-decoration-style: initial\; text-decoration-color: initial\;"><span style="font-size: 14px\; color: rgb(0\, 0\, 0)\; font-family: Arial\, Helvetica\, sans-serif\;">OBJECTIVE:</span><span style="color: rgb(0\, 0\, 0)\;"><span style="font-size: 14px\;"><span style="font-family: Arial\, Helvetica\, sans-serif\;"><br>To teach insurance professionals about various exposures in home and umbrella policies and how to address them.</span></span></span></p><p style="color: rgb(0\, 0\, 0)\; font-family: Arial\; font-size: medium\; font-style: normal\; font-variant-ligatures: normal\; font-variant-caps: normal\; font-weight: 400\; letter-spacing: normal\; orphans: 2\; text-indent: 0px\; text-transform: none\; widows: 2\; word-spacing: 0px\; -webkit-text-stroke-width: 0px\; white-space: normal\; text-decoration-thickness: initial\; text-decoration-style: initial\; text-decoration-color: initial\; text-align: justify\;"><span style="color: rgb(0\, 0\, 0)\;"><span style="font-size: 14px\;"><span style="font-family: Arial\, Helvetica\, sans-serif\;">Someone moves in. Someone moves out. Stuff moves in. Stuff moves out. As your insureds&rsquo\; situations change so do their insurance needs. Insurance pros who attend this course will gain expertise in how to handle several coverage issues found in a typical home or umbrella policy. &nbsp\;<br></span></span></span></p><p style="color: rgb(0\, 0\, 0)\; font-family: Arial\; font-size: medium\; font-style: normal\; font-variant-ligatures: normal\; font-variant-caps: normal\; font-weight: 400\; letter-spacing: normal\; orphans: 2\; text-align: start\; text-indent: 0px\; text-transform: none\; widows: 2\; word-spacing: 0px\; -webkit-text-stroke-width: 0px\; white-space: normal\; text-decoration-thickness: initial\; text-decoration-style: initial\; text-decoration-color: initial\;"><span style="font-size: 14px\;"><span style="color: rgb(0\, 0\, 0)\;"><span style="font-family: Arial\, Helvetica\, sans-serif\;"><span style="box-sizing: border-box\; font-style: normal\; font-variant-ligatures: normal\; font-variant-caps: normal\; font-weight: 400\; letter-spacing: normal\; orphans: 2\; text-align: start\; text-indent: 0px\; text-transform: none\; widows: 2\; word-spacing: 0px\; -webkit-text-stroke-width: 0px\; white-space: normal\; background-color: rgb(255\, 255\, 255)\; text-decoration-thickness: initial\; text-decoration-style: initial\; text-decoration-color: initial\;">This course is approved for 2 PC CE credit in&nbsp\;<strong fr-original-style="font-weight: 700\;" style="font-weight: 700\;">Virginia only</strong></span></span></span><span style="font-family: Arial\, Helvetica\, sans-serif\; color: rgb(0\, 0\, 0)\;">. &nbsp\;</span></span><a fr-original-style="user-select: auto\;" href="https://piaofvadc.growthzoneapp.com/ap/CloudFile/Download/P17XRB4r" rel="noopener noreferrer" style="user-select: auto\;" target="_blank"><span style="font-size: 14px\;"><span style="font-family: Arial\, Helvetica\, sans-serif\; color: rgb(0\, 0\, 0)\;">VA Course Intro Statement</span></span></a></p></body></html>
LOCATION:
UID:e.3735.1440197
SEQUENCE:3
DTSTAMP:20260424T143348Z
URL:https://piaofvadc.growthzoneapp.com/piaeventandeducationcalendar/Details/why-are-you-here-insurance-issues-with-the-people-and-stuff-in-your-house-webinar-1704891?sourceTypeId=Hub
END:VEVENT
END:VCALENDAR
